BEGIN:VCALENDAR
VERSION:2.0
PRODID:-//NIRPC - ECPv6.15.12.2//NONSGML v1.0//EN
CALSCALE:GREGORIAN
METHOD:PUBLISH
X-ORIGINAL-URL:https://nirpc.com
X-WR-CALDESC:Events for NIRPC
REFRESH-INTERVAL;VALUE=DURATION:PT1H
X-Robots-Tag:noindex
X-PUBLISHED-TTL:PT1H
BEGIN:VTIMEZONE
TZID:America/Chicago
BEGIN:DAYLIGHT
TZOFFSETFROM:-0600
TZOFFSETTO:-0500
TZNAME:CDT
DTSTART:20240310T080000
END:DAYLIGHT
BEGIN:STANDARD
TZOFFSETFROM:-0500
TZOFFSETTO:-0600
TZNAME:CST
DTSTART:20241103T070000
END:STANDARD
BEGIN:DAYLIGHT
TZOFFSETFROM:-0600
TZOFFSETTO:-0500
TZNAME:CDT
DTSTART:20250309T080000
END:DAYLIGHT
BEGIN:STANDARD
TZOFFSETFROM:-0500
TZOFFSETTO:-0600
TZNAME:CST
DTSTART:20251102T070000
END:STANDARD
BEGIN:DAYLIGHT
TZOFFSETFROM:-0600
TZOFFSETTO:-0500
TZNAME:CDT
DTSTART:20260308T080000
END:DAYLIGHT
BEGIN:STANDARD
TZOFFSETFROM:-0500
TZOFFSETTO:-0600
TZNAME:CST
DTSTART:20261101T070000
END:STANDARD
END:VTIMEZONE
BEGIN:VEVENT
DTSTART;TZID=America/Chicago:20250817T080000
DTEND;TZID=America/Chicago:20250817T130000
DTSTAMP:20260423T033246
CREATED:20250804T192725Z
LAST-MODIFIED:20250804T192845Z
UID:2496-1755417600-1755435600@nirpc.com
SUMMARY:New Member Orientation
DESCRIPTION:Any questions contact John Wisch\, 815-980-2848 or Johnwisch@hotmail.com \n\nGo back Your message has been sent\n\n\n					\n						\n						\n						\n							\n								\n									\n									\n								\n							\n						\n					\n				\n\n\n\nName(required)\n\n \n			\n				\n					\n						\n						\n						\n					\n					Warning\n				\n				\n			 \n	\n\n\nEmail(required)\n\n \n			\n				\n					\n						\n						\n						\n					\n					Warning\n				\n				\n			 \n	\n\n\nWebsite\n\n \n			\n				\n					\n						\n						\n						\n					\n					Warning\n				\n				\n			 \n	\n\n\nMessage\n\n \n			\n				\n					\n						\n						\n						\n					\n					Warning\n				\n				\n			\n	\n	\nWarning.\n				\n				\n				\n					\n				\n						Submit
URL:https://nirpc.com/event/new-member-orientation-2/
LOCATION:Keller Williams Realty Signature\, 4201 Galleria Dr\, Loves Park\, IL\, 61111\, United States
CATEGORIES:Orientation
ORGANIZER;CN="John Wisch":MAILTO:Johnwisch@hotmail.com
END:VEVENT
BEGIN:VEVENT
DTSTART;TZID=America/Chicago:20250817T120000
DTEND;TZID=America/Chicago:20250817T140000
DTSTAMP:20260423T033247
CREATED:20250804T200623Z
LAST-MODIFIED:20250804T201539Z
UID:2519-1755432000-1755439200@nirpc.com
SUMMARY:Long Range Shoot
DESCRIPTION:We now have windsocks at 150 and 300 yards thanks to club member Ben!\nTargets are set up at 150\, 300\, and 500 yards and consist of multiple diameter steel gongs designed for .22 LR to .338 Lapua.\nRange Safety Officers (RSOs) will be onsite to direct and assist during the event.\nMembers and their guests are welcome. No guest fees\, but guests must complete waiver form.\nPlease leave your rifle unloaded and cased until the RSO directs you to a bench to shoot.
URL:https://nirpc.com/event/long-range-shoot/
LOCATION:South Range\, 8208 Lindenwood Road\, Rockford\, IL\, United States
CATEGORIES:Club Event
END:VEVENT
END:VCALENDAR