BEGIN:VCALENDAR
VERSION:2.0
PRODID:-//NIRPC - ECPv6.15.12.2//NONSGML v1.0//EN
CALSCALE:GREGORIAN
METHOD:PUBLISH
X-WR-CALNAME:NIRPC
X-ORIGINAL-URL:https://nirpc.com
X-WR-CALDESC:Events for NIRPC
REFRESH-INTERVAL;VALUE=DURATION:PT1H
X-Robots-Tag:noindex
X-PUBLISHED-TTL:PT1H
BEGIN:VTIMEZONE
TZID:America/Chicago
BEGIN:DAYLIGHT
TZOFFSETFROM:-0600
TZOFFSETTO:-0500
TZNAME:CDT
DTSTART:20240310T080000
END:DAYLIGHT
BEGIN:STANDARD
TZOFFSETFROM:-0500
TZOFFSETTO:-0600
TZNAME:CST
DTSTART:20241103T070000
END:STANDARD
BEGIN:DAYLIGHT
TZOFFSETFROM:-0600
TZOFFSETTO:-0500
TZNAME:CDT
DTSTART:20250309T080000
END:DAYLIGHT
BEGIN:STANDARD
TZOFFSETFROM:-0500
TZOFFSETTO:-0600
TZNAME:CST
DTSTART:20251102T070000
END:STANDARD
BEGIN:DAYLIGHT
TZOFFSETFROM:-0600
TZOFFSETTO:-0500
TZNAME:CDT
DTSTART:20260308T080000
END:DAYLIGHT
BEGIN:STANDARD
TZOFFSETFROM:-0500
TZOFFSETTO:-0600
TZNAME:CST
DTSTART:20261101T070000
END:STANDARD
BEGIN:DAYLIGHT
TZOFFSETFROM:-0600
TZOFFSETTO:-0500
TZNAME:CDT
DTSTART:20270314T080000
END:DAYLIGHT
BEGIN:STANDARD
TZOFFSETFROM:-0500
TZOFFSETTO:-0600
TZNAME:CST
DTSTART:20271107T070000
END:STANDARD
END:VTIMEZONE
BEGIN:VEVENT
DTSTART;TZID=America/Chicago:20260302T180000
DTEND;TZID=America/Chicago:20260302T200000
DTSTAMP:20260422T175419
CREATED:20220308T060000Z
LAST-MODIFIED:20251227T220136Z
UID:1362-1772474400-1772481600@nirpc.com
SUMMARY:Membership Meeting
DESCRIPTION:Renewals and key distribution will take place from 5:00 to 6:00\, and then again after the general meeting if necessary. \n 
URL:https://nirpc.com/event/membership-meeting-and-renewals/
LOCATION:Loves Park VFW\, 2018 Windsor Rd\, Loves Park\, IL\, 61111\, United States
CATEGORIES:Club Meeting
END:VEVENT
BEGIN:VEVENT
DTSTART;TZID=America/Chicago:20260302T170000
DTEND;TZID=America/Chicago:20260302T180000
DTSTAMP:20260422T175419
CREATED:20220308T050000Z
LAST-MODIFIED:20251227T220013Z
UID:1955-1772470800-1772474400@nirpc.com
SUMMARY:NIRPC Membership Renewal & Key Distribution
DESCRIPTION:Membership renewals and key distribution will take place prior to the regular member meeting and then again after the meeting if necessary.  Renewal forms were provided in the newsletter\, or may be downloaded from the website under the Latest News information.  We will accept personal checks\, cashiers checks\, or money orders\, or cards.  NO CASH PLEASE!
URL:https://nirpc.com/event/membership-renewal/
LOCATION:Loves Park VFW\, 2018 Windsor Rd\, Loves Park\, IL\, 61111\, United States
CATEGORIES:Club Event
ORGANIZER;CN="Paul O'Neill":MAILTO:PJOJeep@comcast.net
END:VEVENT
BEGIN:VEVENT
DTSTART;TZID=America/Chicago:20260301T170000
DTEND;TZID=America/Chicago:20260301T190000
DTSTAMP:20260422T175419
CREATED:20220307T050000Z
LAST-MODIFIED:20251227T214829Z
UID:1610-1772384400-1772391600@nirpc.com
SUMMARY:NIRPC Board Meeting
DESCRIPTION:
URL:https://nirpc.com/event/nirpc-board-meeting-3/
LOCATION:Keller Williams Realty Signature\, 4201 Galleria Dr\, Loves Park\, IL\, 61111\, United States
CATEGORIES:Board Meeting
ORGANIZER;CN="Josh West":MAILTO:joshua_west@comcast.net
END:VEVENT
BEGIN:VEVENT
DTSTART;TZID=America/Chicago:20260228T100000
DTEND;TZID=America/Chicago:20260228T160000
DTSTAMP:20260422T175419
CREATED:20260115T030035Z
LAST-MODIFIED:20260115T030035Z
UID:2621-1772272800-1772294400@nirpc.com
SUMMARY:IDPA Qualifier
DESCRIPTION:Harrison Road Sand Pit – You must register on PractiScore.com for this event.
URL:https://nirpc.com/event/idpa-qualifier/
LOCATION:Harrison Rd. Sandpit\, 3660 Harrison Rd.\, Rockford\, IL\, United States
CATEGORIES:IDPA
END:VEVENT
BEGIN:VEVENT
DTSTART;TZID=America/Chicago:20260221T100000
DTEND;TZID=America/Chicago:20260221T130000
DTSTAMP:20260422T175419
CREATED:20250213T215737Z
LAST-MODIFIED:20260115T030421Z
UID:2455-1771668000-1771678800@nirpc.com
SUMMARY:Membership Renewal and Key Distribution - Saturday Event!
DESCRIPTION:We have set up for a Saturday renewal event as we have been discussing.  Event will take place at Kelly-Williams Realty offices next to Farm & Fleet on Riverside. \nPlease bring Check\, Card\, OR Money Order…NO CASH PLEASE!
URL:https://nirpc.com/event/membership-renewal-and-key-distribution-saturday-event/
LOCATION:Keller Williams Realty Signature\, 4201 Galleria Dr\, Loves Park\, IL\, 61111\, United States
CATEGORIES:Club Event
ORGANIZER;CN="Paul O'Neill":MAILTO:PJOJeep@comcast.net
END:VEVENT
BEGIN:VEVENT
DTSTART;TZID=America/Chicago:20260202T180000
DTEND;TZID=America/Chicago:20260202T190000
DTSTAMP:20260422T175419
CREATED:20220208T060000Z
LAST-MODIFIED:20251227T214544Z
UID:1339-1770055200-1770058800@nirpc.com
SUMMARY:Monthly Member Meeting
DESCRIPTION:
URL:https://nirpc.com/event/zoom-member-meeting/
LOCATION:Loves Park VFW\, 2018 Windsor Rd\, Loves Park\, IL\, 61111\, United States
CATEGORIES:Club Meeting
END:VEVENT
BEGIN:VEVENT
DTSTART;TZID=America/Chicago:20260202T170000
DTEND;TZID=America/Chicago:20260202T180000
DTSTAMP:20260422T175419
CREATED:20251227T195214Z
LAST-MODIFIED:20251227T214057Z
UID:2121-1770051600-1770055200@nirpc.com
SUMMARY:NIRPC Membership Renewal
DESCRIPTION:Renewals for 2026-2027 may be brought to the February 2nd meeting between 5:00 PM and 6:00 PM\, or if needed after the monthly meeting.  Current reported work hours are listed in the January newsletter.
URL:https://nirpc.com/event/nirpc-membership-renewal/
LOCATION:Loves Park VFW\, 2018 Windsor Rd\, Loves Park\, IL\, 61111\, United States
CATEGORIES:Club Meeting
ORGANIZER;CN="Paul O'Neill":MAILTO:PJOJeep@comcast.net
END:VEVENT
BEGIN:VEVENT
DTSTART;TZID=America/Chicago:20260201T170000
DTEND;TZID=America/Chicago:20260201T190000
DTSTAMP:20260422T175419
CREATED:20220207T050000Z
LAST-MODIFIED:20251227T212735Z
UID:1608-1769965200-1769972400@nirpc.com
SUMMARY:NIRPC Board Meeting
DESCRIPTION:
URL:https://nirpc.com/event/nirpc-board-meeting/
LOCATION:Keller Williams Realty Signature\, 4201 Galleria Dr\, Loves Park\, IL\, 61111\, United States
CATEGORIES:Board Meeting
ORGANIZER;CN="Josh West":MAILTO:joshua_west@comcast.net
END:VEVENT
BEGIN:VEVENT
DTSTART;TZID=America/Chicago:20260105T180000
DTEND;TZID=America/Chicago:20260105T200000
DTSTAMP:20260422T175419
CREATED:20220104T060000Z
LAST-MODIFIED:20251227T213753Z
UID:1515-1767636000-1767643200@nirpc.com
SUMMARY:NIRPC Monthly Meeting
DESCRIPTION:
URL:https://nirpc.com/event/nirpc-monthly-meeting-4/
LOCATION:Loves Park VFW\, 2018 Windsor Rd\, Loves Park\, IL\, 61111\, United States
CATEGORIES:Club Meeting
END:VEVENT
BEGIN:VEVENT
DTSTART;TZID=America/Chicago:20260105T170000
DTEND;TZID=America/Chicago:20260105T180000
DTSTAMP:20260422T175419
CREATED:20231217T030128Z
LAST-MODIFIED:20251227T212934Z
UID:2285-1767632400-1767636000@nirpc.com
SUMMARY:NIRPC Membership Renewal
DESCRIPTION:Membership renewals may be dropped off prior to the January Meeting.  New keys will be available.
URL:https://nirpc.com/event/nirpc-membership-renewal-3/
LOCATION:Loves Park VFW\, 2018 Windsor Rd\, Loves Park\, IL\, 61111\, United States
CATEGORIES:Club Event
ORGANIZER;CN="Paul O'Neill":MAILTO:PJOJeep@comcast.net
END:VEVENT
BEGIN:VEVENT
DTSTART;TZID=America/Chicago:20260104T170000
DTEND;TZID=America/Chicago:20260104T190000
DTSTAMP:20260422T175419
CREATED:20221219T210501Z
LAST-MODIFIED:20251227T213145Z
UID:2112-1767546000-1767553200@nirpc.com
SUMMARY:NIRPC Board Meeting
DESCRIPTION:
URL:https://nirpc.com/event/nirpc-board-meeting-2/
LOCATION:Keller Williams Realty Signature\, 4201 Galleria Dr\, Loves Park\, IL\, 61111\, United States
CATEGORIES:Board Meeting
ORGANIZER;CN="Josh West":MAILTO:joshua_west@comcast.net
END:VEVENT
BEGIN:VEVENT
DTSTART;TZID=America/Chicago:20251201T180000
DTEND;TZID=America/Chicago:20251201T200000
DTSTAMP:20260422T175419
CREATED:20250804T195909Z
LAST-MODIFIED:20250804T195909Z
UID:2516-1764612000-1764619200@nirpc.com
SUMMARY:NIRPC Monthly Membership Meeting
DESCRIPTION:
URL:https://nirpc.com/event/nirpc-monthly-membership-meeting-10/
LOCATION:Loves Park VFW\, 2018 Windsor Rd\, Loves Park\, IL\, 61111\, United States
CATEGORIES:Club Meeting
END:VEVENT
BEGIN:VEVENT
DTSTART;TZID=America/Chicago:20251103T180000
DTEND;TZID=America/Chicago:20251103T200000
DTSTAMP:20260422T175419
CREATED:20250804T195909Z
LAST-MODIFIED:20250804T195909Z
UID:2515-1762192800-1762200000@nirpc.com
SUMMARY:NIRPC Monthly Membership Meeting
DESCRIPTION:
URL:https://nirpc.com/event/nirpc-monthly-membership-meeting-9/
LOCATION:Loves Park VFW\, 2018 Windsor Rd\, Loves Park\, IL\, 61111\, United States
CATEGORIES:Club Meeting
END:VEVENT
BEGIN:VEVENT
DTSTART;TZID=America/Chicago:20251029T150000
DTEND;TZID=America/Chicago:20251029T190000
DTSTAMP:20260422T175419
CREATED:20250804T203950Z
LAST-MODIFIED:20250804T203950Z
UID:2543-1761750000-1761764400@nirpc.com
SUMMARY:NIRPC .22 LR Shoot - Harrison Rd. Range
DESCRIPTION:
URL:https://nirpc.com/event/nirpc-22-lr-shoot-harrison-rd-range-43/
LOCATION:Harrison Rd Range\, 3660 Harrison Rd.\, Rockford\, IL\, IL\, United States
CATEGORIES:.22 LR Shoot
END:VEVENT
BEGIN:VEVENT
DTSTART;TZID=America/Chicago:20251025T100000
DTEND;TZID=America/Chicago:20251025T120000
DTSTAMP:20260422T175419
CREATED:20250804T201706Z
LAST-MODIFIED:20250804T201706Z
UID:2528-1761386400-1761393600@nirpc.com
SUMMARY:Long Range Shoot
DESCRIPTION:We now have windsocks at 150 and 300 yards thanks to club member Ben! Targets are set up at 150\, 300\, and 500 yards and consist of multiple diameter steel gongs designed for .22 LR to .338 Lapua. Range Safety Officers (RSOs) will be onsite to direct and assist during the event. Members and their guests are welcome. No guest fees\, but guests must complete waiver form. Please leave your rifle unloaded and cased until the RSO directs you to a bench to shoot.
URL:https://nirpc.com/event/long-range-shoot-6/
LOCATION:South Range\, 8208 Lindenwood Road\, Rockford\, IL\, United States
CATEGORIES:Club Event
END:VEVENT
BEGIN:VEVENT
DTSTART;TZID=America/Chicago:20251022T150000
DTEND;TZID=America/Chicago:20251022T190000
DTSTAMP:20260422T175419
CREATED:20250804T203950Z
LAST-MODIFIED:20250804T203950Z
UID:2542-1761145200-1761159600@nirpc.com
SUMMARY:NIRPC .22 LR Shoot - Harrison Rd. Range
DESCRIPTION:
URL:https://nirpc.com/event/nirpc-22-lr-shoot-harrison-rd-range-42/
LOCATION:Harrison Rd Range\, 3660 Harrison Rd.\, Rockford\, IL\, IL\, United States
CATEGORIES:.22 LR Shoot
END:VEVENT
BEGIN:VEVENT
DTSTART;TZID=America/Chicago:20251015T150000
DTEND;TZID=America/Chicago:20251015T190000
DTSTAMP:20260422T175419
CREATED:20250804T203949Z
LAST-MODIFIED:20250804T203949Z
UID:2541-1760540400-1760554800@nirpc.com
SUMMARY:NIRPC .22 LR Shoot - Harrison Rd. Range
DESCRIPTION:
URL:https://nirpc.com/event/nirpc-22-lr-shoot-harrison-rd-range-41/
LOCATION:Harrison Rd Range\, 3660 Harrison Rd.\, Rockford\, IL\, IL\, United States
CATEGORIES:.22 LR Shoot
END:VEVENT
BEGIN:VEVENT
DTSTART;TZID=America/Chicago:20251012T120000
DTEND;TZID=America/Chicago:20251012T200000
DTSTAMP:20260422T175419
CREATED:20250804T201706Z
LAST-MODIFIED:20250804T201706Z
UID:2527-1760270400-1760299200@nirpc.com
SUMMARY:Long Range Shoot
DESCRIPTION:We now have windsocks at 150 and 300 yards thanks to club member Ben! Targets are set up at 150\, 300\, and 500 yards and consist of multiple diameter steel gongs designed for .22 LR to .338 Lapua. Range Safety Officers (RSOs) will be onsite to direct and assist during the event. Members and their guests are welcome. No guest fees\, but guests must complete waiver form. Please leave your rifle unloaded and cased until the RSO directs you to a bench to shoot.
URL:https://nirpc.com/event/long-range-shoot-5/
LOCATION:South Range\, 8208 Lindenwood Road\, Rockford\, IL\, United States
CATEGORIES:Club Event
END:VEVENT
BEGIN:VEVENT
DTSTART;TZID=America/Chicago:20251008T150000
DTEND;TZID=America/Chicago:20251008T190000
DTSTAMP:20260422T175419
CREATED:20250804T203935Z
LAST-MODIFIED:20250804T203935Z
UID:2540-1759935600-1759950000@nirpc.com
SUMMARY:NIRPC .22 LR Shoot - Harrison Rd. Range
DESCRIPTION:
URL:https://nirpc.com/event/nirpc-22-lr-shoot-harrison-rd-range-40/
LOCATION:Harrison Rd Range\, 3660 Harrison Rd.\, Rockford\, IL\, IL\, United States
CATEGORIES:.22 LR Shoot
END:VEVENT
BEGIN:VEVENT
DTSTART;TZID=America/Chicago:20251006T180000
DTEND;TZID=America/Chicago:20251006T200000
DTSTAMP:20260422T175419
CREATED:20250804T195909Z
LAST-MODIFIED:20250804T195909Z
UID:2514-1759773600-1759780800@nirpc.com
SUMMARY:NIRPC Monthly Membership Meeting
DESCRIPTION:
URL:https://nirpc.com/event/nirpc-monthly-membership-meeting-5/
LOCATION:Loves Park VFW\, 2018 Windsor Rd\, Loves Park\, IL\, 61111\, United States
CATEGORIES:Club Meeting
END:VEVENT
BEGIN:VEVENT
DTSTART;TZID=America/Chicago:20251001T150000
DTEND;TZID=America/Chicago:20251001T190000
DTSTAMP:20260422T175419
CREATED:20250804T203935Z
LAST-MODIFIED:20250804T203935Z
UID:2539-1759330800-1759345200@nirpc.com
SUMMARY:NIRPC .22 LR Shoot - Harrison Rd. Range
DESCRIPTION:
URL:https://nirpc.com/event/nirpc-22-lr-shoot-harrison-rd-range-39/
LOCATION:Harrison Rd Range\, 3660 Harrison Rd.\, Rockford\, IL\, IL\, United States
CATEGORIES:.22 LR Shoot
END:VEVENT
BEGIN:VEVENT
DTSTART;TZID=America/Chicago:20250927T100000
DTEND;TZID=America/Chicago:20250927T120000
DTSTAMP:20260422T175419
CREATED:20250804T201706Z
LAST-MODIFIED:20250804T201706Z
UID:2526-1758967200-1758974400@nirpc.com
SUMMARY:Long Range Shoot
DESCRIPTION:We now have windsocks at 150 and 300 yards thanks to club member Ben! Targets are set up at 150\, 300\, and 500 yards and consist of multiple diameter steel gongs designed for .22 LR to .338 Lapua. Range Safety Officers (RSOs) will be onsite to direct and assist during the event. Members and their guests are welcome. No guest fees\, but guests must complete waiver form. Please leave your rifle unloaded and cased until the RSO directs you to a bench to shoot.
URL:https://nirpc.com/event/long-range-shoot-4/
LOCATION:South Range\, 8208 Lindenwood Road\, Rockford\, IL\, United States
CATEGORIES:Club Event
END:VEVENT
BEGIN:VEVENT
DTSTART;TZID=America/Chicago:20250927T080000
DTEND;TZID=America/Chicago:20250927T150000
DTSTAMP:20260422T175419
CREATED:20250804T193206Z
LAST-MODIFIED:20250804T193332Z
UID:2499-1758960000-1758985200@nirpc.com
SUMMARY:Road Clean-up
DESCRIPTION:
URL:https://nirpc.com/event/road-clean-up/
LOCATION:Harrison Rd Range\, 3660 Harrison Rd.\, Rockford\, IL\, IL\, United States
CATEGORIES:Work Hour Event
END:VEVENT
BEGIN:VEVENT
DTSTART;TZID=America/Chicago:20250924T150000
DTEND;TZID=America/Chicago:20250924T190000
DTSTAMP:20260422T175419
CREATED:20250804T203934Z
LAST-MODIFIED:20250804T203934Z
UID:2538-1758726000-1758740400@nirpc.com
SUMMARY:NIRPC .22 LR Shoot - Harrison Rd. Range
DESCRIPTION:
URL:https://nirpc.com/event/nirpc-22-lr-shoot-harrison-rd-range-38/
LOCATION:Harrison Rd Range\, 3660 Harrison Rd.\, Rockford\, IL\, IL\, United States
CATEGORIES:.22 LR Shoot
END:VEVENT
BEGIN:VEVENT
DTSTART;TZID=America/Chicago:20250917T150000
DTEND;TZID=America/Chicago:20250917T190000
DTSTAMP:20260422T175419
CREATED:20250804T203934Z
LAST-MODIFIED:20250804T203934Z
UID:2537-1758121200-1758135600@nirpc.com
SUMMARY:NIRPC .22 LR Shoot - Harrison Rd. Range
DESCRIPTION:
URL:https://nirpc.com/event/nirpc-22-lr-shoot-harrison-rd-range-37/
LOCATION:Harrison Rd Range\, 3660 Harrison Rd.\, Rockford\, IL\, IL\, United States
CATEGORIES:.22 LR Shoot
END:VEVENT
BEGIN:VEVENT
DTSTART;TZID=America/Chicago:20250914T120000
DTEND;TZID=America/Chicago:20250914T140000
DTSTAMP:20260422T175419
CREATED:20250804T201706Z
LAST-MODIFIED:20250804T201706Z
UID:2525-1757851200-1757858400@nirpc.com
SUMMARY:Long Range Shoot
DESCRIPTION:We now have windsocks at 150 and 300 yards thanks to club member Ben! Targets are set up at 150\, 300\, and 500 yards and consist of multiple diameter steel gongs designed for .22 LR to .338 Lapua. Range Safety Officers (RSOs) will be onsite to direct and assist during the event. Members and their guests are welcome. No guest fees\, but guests must complete waiver form. Please leave your rifle unloaded and cased until the RSO directs you to a bench to shoot.
URL:https://nirpc.com/event/long-range-shoot-3/
LOCATION:South Range\, 8208 Lindenwood Road\, Rockford\, IL\, United States
CATEGORIES:Club Event
END:VEVENT
BEGIN:VEVENT
DTSTART;TZID=America/Chicago:20250910T150000
DTEND;TZID=America/Chicago:20250910T190000
DTSTAMP:20260422T175419
CREATED:20250804T203934Z
LAST-MODIFIED:20250804T203934Z
UID:2536-1757516400-1757530800@nirpc.com
SUMMARY:NIRPC .22 LR Shoot - Harrison Rd. Range
DESCRIPTION:
URL:https://nirpc.com/event/nirpc-22-lr-shoot-harrison-rd-range-36/
LOCATION:Harrison Rd Range\, 3660 Harrison Rd.\, Rockford\, IL\, IL\, United States
CATEGORIES:.22 LR Shoot
END:VEVENT
BEGIN:VEVENT
DTSTART;TZID=America/Chicago:20250903T150000
DTEND;TZID=America/Chicago:20250903T190000
DTSTAMP:20260422T175419
CREATED:20250804T203933Z
LAST-MODIFIED:20250804T203933Z
UID:2535-1756911600-1756926000@nirpc.com
SUMMARY:NIRPC .22 LR Shoot - Harrison Rd. Range
DESCRIPTION:
URL:https://nirpc.com/event/nirpc-22-lr-shoot-harrison-rd-range-35/
LOCATION:Harrison Rd Range\, 3660 Harrison Rd.\, Rockford\, IL\, IL\, United States
CATEGORIES:.22 LR Shoot
END:VEVENT
BEGIN:VEVENT
DTSTART;TZID=America/Chicago:20250830T100000
DTEND;TZID=America/Chicago:20250830T120000
DTSTAMP:20260422T175419
CREATED:20250804T201705Z
LAST-MODIFIED:20250804T201705Z
UID:2524-1756548000-1756555200@nirpc.com
SUMMARY:Long Range Shoot
DESCRIPTION:We now have windsocks at 150 and 300 yards thanks to club member Ben! Targets are set up at 150\, 300\, and 500 yards and consist of multiple diameter steel gongs designed for .22 LR to .338 Lapua. Range Safety Officers (RSOs) will be onsite to direct and assist during the event. Members and their guests are welcome. No guest fees\, but guests must complete waiver form. Please leave your rifle unloaded and cased until the RSO directs you to a bench to shoot.
URL:https://nirpc.com/event/long-range-shoot-2/
LOCATION:South Range\, 8208 Lindenwood Road\, Rockford\, IL\, United States
CATEGORIES:Club Event
END:VEVENT
BEGIN:VEVENT
DTSTART;TZID=America/Chicago:20250827T150000
DTEND;TZID=America/Chicago:20250827T190000
DTSTAMP:20260422T175419
CREATED:20250804T203933Z
LAST-MODIFIED:20250804T203933Z
UID:2534-1756306800-1756321200@nirpc.com
SUMMARY:NIRPC .22 LR Shoot - Harrison Rd. Range
DESCRIPTION:
URL:https://nirpc.com/event/nirpc-22-lr-shoot-harrison-rd-range-34/
LOCATION:Harrison Rd Range\, 3660 Harrison Rd.\, Rockford\, IL\, IL\, United States
CATEGORIES:.22 LR Shoot
END:VEVENT
END:VCALENDAR