BEGIN:VCALENDAR
VERSION:2.0
PRODID:-//NIRPC - ECPv6.15.12.2//NONSGML v1.0//EN
CALSCALE:GREGORIAN
METHOD:PUBLISH
X-WR-CALNAME:NIRPC
X-ORIGINAL-URL:https://nirpc.com
X-WR-CALDESC:Events for NIRPC
REFRESH-INTERVAL;VALUE=DURATION:PT1H
X-Robots-Tag:noindex
X-PUBLISHED-TTL:PT1H
BEGIN:VTIMEZONE
TZID:America/Chicago
BEGIN:DAYLIGHT
TZOFFSETFROM:-0600
TZOFFSETTO:-0500
TZNAME:CDT
DTSTART:20230312T080000
END:DAYLIGHT
BEGIN:STANDARD
TZOFFSETFROM:-0500
TZOFFSETTO:-0600
TZNAME:CST
DTSTART:20231105T070000
END:STANDARD
BEGIN:DAYLIGHT
TZOFFSETFROM:-0600
TZOFFSETTO:-0500
TZNAME:CDT
DTSTART:20240310T080000
END:DAYLIGHT
BEGIN:STANDARD
TZOFFSETFROM:-0500
TZOFFSETTO:-0600
TZNAME:CST
DTSTART:20241103T070000
END:STANDARD
BEGIN:DAYLIGHT
TZOFFSETFROM:-0600
TZOFFSETTO:-0500
TZNAME:CDT
DTSTART:20250309T080000
END:DAYLIGHT
BEGIN:STANDARD
TZOFFSETFROM:-0500
TZOFFSETTO:-0600
TZNAME:CST
DTSTART:20251102T070000
END:STANDARD
BEGIN:DAYLIGHT
TZOFFSETFROM:-0600
TZOFFSETTO:-0500
TZNAME:CDT
DTSTART:20260308T080000
END:DAYLIGHT
BEGIN:STANDARD
TZOFFSETFROM:-0500
TZOFFSETTO:-0600
TZNAME:CST
DTSTART:20261101T070000
END:STANDARD
END:VTIMEZONE
BEGIN:VEVENT
DTSTART;TZID=America/Chicago:20250409T150000
DTEND;TZID=America/Chicago:20250409T190000
DTSTAMP:20260423T063902
CREATED:20220414T023000Z
LAST-MODIFIED:20250205T212412Z
UID:1655-1744210800-1744225200@nirpc.com
SUMMARY:NIRPC .22 LR Shoot - Harrison Rd. Range
DESCRIPTION:
URL:https://nirpc.com/event/nirpc-22-lr-shoot-harrison-rd-range-2/
LOCATION:Harrison Rd Range\, 3660 Harrison Rd.\, Rockford\, IL\, IL\, United States
CATEGORIES:Club Event
END:VEVENT
BEGIN:VEVENT
DTSTART;TZID=America/Chicago:20250407T180000
DTEND;TZID=America/Chicago:20250407T210000
DTSTAMP:20260423T063902
CREATED:20220405T040000Z
LAST-MODIFIED:20240814T015258Z
UID:1633-1744048800-1744059600@nirpc.com
SUMMARY:NIRPC Annual Membership Meeting
DESCRIPTION:Monthly Club meeting with dues collection and key distribution from 5:00 to 6:00 before the meeting\, which starts at 6:00 and again after the meeting if necessary. \nElections will be held for two open board positions and all four officer positions. \nRaffle Drawing being held for 2 guns.
URL:https://nirpc.com/event/nirpc-monthly-club-meeting/
LOCATION:Loves Park VFW\, 2018 Windsor Rd\, Loves Park\, IL\, 61111\, United States
CATEGORIES:Club Meeting
ORGANIZER;CN="Josh West":MAILTO:joshua_west@comcast.net
END:VEVENT
BEGIN:VEVENT
DTSTART;TZID=America/Chicago:20250407T170000
DTEND;TZID=America/Chicago:20250407T180000
DTSTAMP:20260423T063902
CREATED:20220405T030000Z
LAST-MODIFIED:20240814T014918Z
UID:1960-1744045200-1744048800@nirpc.com
SUMMARY:Membership Renewal and Key Distribution
DESCRIPTION:Membership renewals and key distribution will begin at 5:00 until the Annual Meeting begins at 6:00.  If necessary\, we will continue to process them again after the meeting if needed.  Renewal forms were included in the past several newsletters or may be found on the website under the Latest News information regarding renewal.
URL:https://nirpc.com/event/membership-renewal-and-key-distribution/
LOCATION:Loves Park VFW\, 2018 Windsor Rd\, Loves Park\, IL\, 61111\, United States
ORGANIZER;CN="Paul O'Neill":MAILTO:PJOJeep@comcast.net
END:VEVENT
BEGIN:VEVENT
DTSTART;TZID=America/Chicago:20250402T150000
DTEND;TZID=America/Chicago:20250402T190000
DTSTAMP:20260423T063902
CREATED:20220407T023000Z
LAST-MODIFIED:20250205T211356Z
UID:1653-1743606000-1743620400@nirpc.com
SUMMARY:NIRPC .22 LR Shoot - Harrison Rd. Range
DESCRIPTION:Weekly .22 Shoot\, April through October from 4:30 PM to 7:00 PM the Harrison Road range will be closed to all other calibers.
URL:https://nirpc.com/event/nirpc-22-lr-shoot-harrison-rd-range/
LOCATION:Harrison Rd Range\, 3660 Harrison Rd.\, Rockford\, IL\, IL\, United States
CATEGORIES:Club Event
END:VEVENT
BEGIN:VEVENT
DTSTART;TZID=America/Chicago:20250322T100000
DTEND;TZID=America/Chicago:20250322T130000
DTSTAMP:20260423T063902
CREATED:20230411T165231Z
LAST-MODIFIED:20250205T211133Z
UID:2203-1742637600-1742648400@nirpc.com
SUMMARY:.22 Rimfire Silhouette Shoot
DESCRIPTION:Open Event for members and guests\, $10.00 per shooter.
URL:https://nirpc.com/event/22-rimfire-long-range-event/
LOCATION:Harrison Rd Range\, 3660 Harrison Rd.\, Rockford\, IL\, IL\, United States
CATEGORIES:Club Event
END:VEVENT
BEGIN:VEVENT
DTSTART;TZID=America/Chicago:20241202T180000
DTEND;TZID=America/Chicago:20241202T200000
DTSTAMP:20260423T063902
CREATED:20221205T180000Z
LAST-MODIFIED:20240814T013738Z
UID:1651-1733162400-1733169600@nirpc.com
SUMMARY:NIRPC Monthly Membership Meeting
DESCRIPTION:
URL:https://nirpc.com/event/nirpc-monthly-membership-meeting-8/
LOCATION:Loves Park VFW\, 2018 Windsor Rd\, Loves Park\, IL\, 61111\, United States
CATEGORIES:Club Meeting
END:VEVENT
BEGIN:VEVENT
DTSTART;TZID=America/Chicago:20241201T170000
DTEND;TZID=America/Chicago:20241201T190000
DTSTAMP:20260423T063902
CREATED:20221204T170000Z
LAST-MODIFIED:20240814T013103Z
UID:1631-1733072400-1733079600@nirpc.com
SUMMARY:NIRPC Board Meeting
DESCRIPTION:
URL:https://nirpc.com/event/nirpc-board-meeting-12/
LOCATION:Holiday Inn Expess & S\, 7552 Park Pl\, Loves Park
CATEGORIES:Board Meeting
ORGANIZER;CN="Josh West":MAILTO:joshua_west@comcast.net
END:VEVENT
BEGIN:VEVENT
DTSTART;TZID=America/Chicago:20241201T080000
DTEND;TZID=America/Chicago:20241201T133000
DTSTAMP:20260423T063902
CREATED:20240228T202314Z
LAST-MODIFIED:20241008T201108Z
UID:2311-1733040000-1733059800@nirpc.com
SUMMARY:NIRPC New Member Orientation
DESCRIPTION:New Member orientation will be held Sunday Morning December 1st\, 2024.  Classroom portion will begin at 8:00am\, arrive early and have your FOID Card and proof of current NRA or ISRA Membership (current membership card\, label from NRA Magazine\, copy of email receipt).  Bring a check\, money order\, or you may use a debit/credit card with a $5.00 fee.  Cost for new members is prorated and will be $130.00 which is valid through April 6\, 2025. Approximately 11:00 you will drive to the Harrison Road Range for a tour and review of the facility and firearm proficiency demonstration. \nBring a firearm\, minimum of 30 rounds of ammunition\, eyewear\, and hearing protection.  Leave these in your vehicle during classroom portion.
URL:https://nirpc.com/event/nirpc-new-member-orientation/
LOCATION:Keller Williams Realty Signature\, 4201 Galleria Dr\, Loves Park\, IL\, 61111\, United States
CATEGORIES:Orientation
ORGANIZER;CN="John Wisch":MAILTO:Johnwisch@hotmail.com
END:VEVENT
BEGIN:VEVENT
DTSTART;TZID=America/Chicago:20241117T080000
DTEND;TZID=America/Chicago:20241117T140000
DTSTAMP:20260423T063902
CREATED:20240814T011736Z
LAST-MODIFIED:20240814T011736Z
UID:2390-1731830400-1731852000@nirpc.com
SUMMARY:Training - Illinois Initial Concealed Carry (16 Hr) - Lindenwood Rd.
DESCRIPTION:
URL:https://nirpc.com/event/training-illinois-initial-concealed-carry-16-hr-lindenwood-rd/
LOCATION:South Range\, 8208 Lindenwood Road\, Rockford\, IL\, United States
CATEGORIES:Down Range Training Class
END:VEVENT
BEGIN:VEVENT
DTSTART;TZID=America/Chicago:20241104T180000
DTEND;TZID=America/Chicago:20241104T200000
DTSTAMP:20260423T063902
CREATED:20221107T180000Z
LAST-MODIFIED:20240814T013801Z
UID:1649-1730743200-1730750400@nirpc.com
SUMMARY:NIRPC Monthly Membership Meeting
DESCRIPTION:
URL:https://nirpc.com/event/nirpc-monthly-membership-meeting-7/
LOCATION:Loves Park VFW\, 2018 Windsor Rd\, Loves Park\, IL\, 61111\, United States
CATEGORIES:Club Meeting
END:VEVENT
BEGIN:VEVENT
DTSTART;TZID=America/Chicago:20241103T170000
DTEND;TZID=America/Chicago:20241103T190000
DTSTAMP:20260423T063902
CREATED:20221106T170000Z
LAST-MODIFIED:20240814T012531Z
UID:1629-1730653200-1730660400@nirpc.com
SUMMARY:NIRPC Board Meeting
DESCRIPTION:
URL:https://nirpc.com/event/nirpc-board-meeting-11/
LOCATION:Holiday Inn Expess & S\, 7552 Park Pl\, Loves Park
CATEGORIES:Board Meeting
ORGANIZER;CN="Josh West":MAILTO:joshua_west@comcast.net
END:VEVENT
BEGIN:VEVENT
DTSTART;TZID=America/Chicago:20241023T163000
DTEND;TZID=America/Chicago:20241023T190000
DTSTAMP:20260423T063902
CREATED:20221026T153000Z
LAST-MODIFIED:20240814T013012Z
UID:1761-1729701000-1729710000@nirpc.com
SUMMARY:NIRPC .22 LR Shoot - Harrison Rd. Range
DESCRIPTION:
URL:https://nirpc.com/event/nirpc-22-lr-shoot-harrison-rd-range-30/
LOCATION:Harrison Rd Range\, 3660 Harrison Rd.\, Rockford\, IL\, IL\, United States
END:VEVENT
BEGIN:VEVENT
DTSTART;TZID=America/Chicago:20241021T080000
DTEND;TZID=America/Chicago:20241024T170000
DTSTAMP:20260423T063902
CREATED:20240814T011501Z
LAST-MODIFIED:20240814T011501Z
UID:2388-1729497600-1729789200@nirpc.com
SUMMARY:Basic Police Sniper Training - Harrison Rd. Sandpit
DESCRIPTION:
URL:https://nirpc.com/event/basic-police-sniper-training-harrison-rd-sandpit/
LOCATION:Harrison Rd. Sandpit\, 3660 Harrison Rd.\, Rockford\, IL\, United States
CATEGORIES:Down Range Training Class
END:VEVENT
BEGIN:VEVENT
DTSTART;TZID=America/Chicago:20241020T100000
DTEND;TZID=America/Chicago:20241020T140000
DTSTAMP:20260423T063902
CREATED:20240325T181743Z
LAST-MODIFIED:20240325T181743Z
UID:2336-1729418400-1729432800@nirpc.com
SUMMARY:Monthly South Range Shoot - 500 Yards
DESCRIPTION:
URL:https://nirpc.com/event/monthly-south-range-shoot-500-yards-3/
LOCATION:South Range\, 8208 Lindenwood Road\, Rockford\, IL\, United States
CATEGORIES:Club Event
END:VEVENT
BEGIN:VEVENT
DTSTART;TZID=America/Chicago:20241020T080000
DTEND;TZID=America/Chicago:20241020T120000
DTSTAMP:20260423T063902
CREATED:20240325T182040Z
LAST-MODIFIED:20240805T233941Z
UID:2338-1729411200-1729425600@nirpc.com
SUMMARY:Road Cleanup - Harrison Road Range
DESCRIPTION:
URL:https://nirpc.com/event/road-cleanup-harrison-road-range/
LOCATION:Harrison Rd Range\, 3660 Harrison Rd.\, Rockford\, IL\, IL\, United States
CATEGORIES:Work Hour Event
END:VEVENT
BEGIN:VEVENT
DTSTART;TZID=America/Chicago:20241016T163000
DTEND;TZID=America/Chicago:20241016T190000
DTSTAMP:20260423T063902
CREATED:20221019T153000Z
LAST-MODIFIED:20240814T012903Z
UID:1759-1729096200-1729105200@nirpc.com
SUMMARY:NIRPC .22 LR Shoot - Harrison Rd. Range
DESCRIPTION:
URL:https://nirpc.com/event/nirpc-22-lr-shoot-harrison-rd-range-29/
LOCATION:Harrison Rd Range\, 3660 Harrison Rd.\, Rockford\, IL\, IL\, United States
END:VEVENT
BEGIN:VEVENT
DTSTART;TZID=America/Chicago:20241012T080000
DTEND;TZID=America/Chicago:20241013T180000
DTSTAMP:20260423T063902
CREATED:20220501T180000Z
LAST-MODIFIED:20240814T011029Z
UID:1685-1728720000-1728842400@nirpc.com
SUMMARY:Training - Illinois Concealed Carry (16HR Initial) - South Range
DESCRIPTION:
URL:https://nirpc.com/event/training-ccl-south-range-2/
LOCATION:South Range\, 8208 Lindenwood Road\, Rockford\, IL\, United States
CATEGORIES:Down Range Training Class
END:VEVENT
BEGIN:VEVENT
DTSTART;TZID=America/Chicago:20241010T170000
DTEND;TZID=America/Chicago:20241010T210000
DTSTAMP:20260423T063902
CREATED:20241008T201735Z
LAST-MODIFIED:20241008T201735Z
UID:2421-1728579600-1728594000@nirpc.com
SUMMARY:Winnebago-Boone Friends of the NRA Dinner
DESCRIPTION:Join fellow club members to support the FRNA in their efforts to support shooting sports.  NIRPC has 2 tables available\, tickets are $100 each\, call Paul O’Neill 815-222-4979 to purchase a seat.
URL:https://nirpc.com/event/winnebago-boone-friends-of-the-nra-dinner/
LOCATION:IL
ORGANIZER;CN="Paul O'Neill":MAILTO:PJOJeep@comcast.net
END:VEVENT
BEGIN:VEVENT
DTSTART;TZID=America/Chicago:20241009T163000
DTEND;TZID=America/Chicago:20241009T190000
DTSTAMP:20260423T063902
CREATED:20221012T153000Z
LAST-MODIFIED:20241008T201234Z
UID:1757-1728491400-1728500400@nirpc.com
SUMMARY:NIRPC .22 LR Shoot - Harrison Rd. Range
DESCRIPTION:
URL:https://nirpc.com/event/nirpc-22-lr-shoot-harrison-rd-range-28/
LOCATION:Harrison Rd Range\, 3660 Harrison Rd.\, Rockford\, IL\, IL\, United States
END:VEVENT
BEGIN:VEVENT
DTSTART;TZID=America/Chicago:20241007T180000
DTEND;TZID=America/Chicago:20241007T200000
DTSTAMP:20260423T063902
CREATED:20221003T170000Z
LAST-MODIFIED:20240814T013832Z
UID:1647-1728324000-1728331200@nirpc.com
SUMMARY:NIRPC Monthly Membership Meeting
DESCRIPTION:
URL:https://nirpc.com/event/nirpc-monthly-membership-meeting-6/
LOCATION:Loves Park VFW\, 2018 Windsor Rd\, Loves Park\, IL\, 61111\, United States
CATEGORIES:Club Meeting
END:VEVENT
BEGIN:VEVENT
DTSTART;TZID=America/Chicago:20241006T170000
DTEND;TZID=America/Chicago:20241006T190000
DTSTAMP:20260423T063902
CREATED:20221002T160000Z
LAST-MODIFIED:20240814T011948Z
UID:1627-1728234000-1728241200@nirpc.com
SUMMARY:NIRPC Board Meeting
DESCRIPTION:
URL:https://nirpc.com/event/nirpc-board-meeting-10/
LOCATION:Holiday Inn Expess & S\, 7552 Park Pl\, Loves Park
CATEGORIES:Board Meeting
ORGANIZER;CN="Josh West":MAILTO:joshua_west@comcast.net
END:VEVENT
BEGIN:VEVENT
DTSTART;TZID=America/Chicago:20241006T080000
DTEND;TZID=America/Chicago:20241006T120000
DTSTAMP:20260423T063902
CREATED:20220724T070000Z
LAST-MODIFIED:20240814T010732Z
UID:1676-1728201600-1728216000@nirpc.com
SUMMARY:Training - Ladies ONLY Defensive Handgun - South Range
DESCRIPTION:
URL:https://nirpc.com/event/training-ladies-only-defensive-handgun-south-range-2/
LOCATION:South Range\, 8208 Lindenwood Road\, Rockford\, IL\, United States
CATEGORIES:Down Range Training Class
END:VEVENT
BEGIN:VEVENT
DTSTART;TZID=America/Chicago:20241005T080000
DTEND;TZID=America/Chicago:20241005T120000
DTSTAMP:20260423T063902
CREATED:20220416T070000Z
LAST-MODIFIED:20240814T010630Z
UID:1674-1728115200-1728129600@nirpc.com
SUMMARY:Training - Ladies Handgun Fundamentals - South Range
DESCRIPTION:Down Range is offering this class to NIRPC Members Free of charge.
URL:https://nirpc.com/event/training-ladies-only-defensive-handgun-south-range/
LOCATION:South Range\, 8208 Lindenwood Road\, Rockford\, IL\, United States
CATEGORIES:Down Range Training Class
END:VEVENT
BEGIN:VEVENT
DTSTART;TZID=America/Chicago:20241002T150000
DTEND;TZID=America/Chicago:20241002T180000
DTSTAMP:20260423T063902
CREATED:20221005T153000Z
LAST-MODIFIED:20240228T212058Z
UID:1755-1727881200-1727892000@nirpc.com
SUMMARY:NIRPC .22 LR Shoot - Harrison Rd. Range
DESCRIPTION:
URL:https://nirpc.com/event/nirpc-22-lr-shoot-harrison-rd-range-27/
LOCATION:Harrison Rd Range\, 3660 Harrison Rd.\, Rockford\, IL\, IL\, United States
CATEGORIES:Club Event
END:VEVENT
BEGIN:VEVENT
DTSTART;TZID=America/Chicago:20240928T080000
DTEND;TZID=America/Chicago:20240928T170000
DTSTAMP:20260423T063902
CREATED:20230411T022520Z
LAST-MODIFIED:20240814T010145Z
UID:2191-1727510400-1727542800@nirpc.com
SUMMARY:Illinois Concealed Carry - 16 HR Initial
DESCRIPTION:Offered through Down Range in Rochelle
URL:https://nirpc.com/event/illinois-concealed-carry/
LOCATION:South Range\, 8208 Lindenwood Road\, Rockford\, IL\, United States
CATEGORIES:Down Range Training Class
END:VEVENT
BEGIN:VEVENT
DTSTART;TZID=America/Chicago:20240928T080000
DTEND;TZID=America/Chicago:20240928T170000
DTSTAMP:20260423T063902
CREATED:20220821T070000Z
LAST-MODIFIED:20240813T023123Z
UID:1690-1727510400-1727542800@nirpc.com
SUMMARY:Training - CCL - South Range
DESCRIPTION:Illinois Conceal Carry  NIRPC Members $150\, others $200
URL:https://nirpc.com/event/training-ccl-south-range-4/
LOCATION:South Range\, 8208 Lindenwood Road\, Rockford\, IL\, United States
CATEGORIES:Down Range Training Class
END:VEVENT
BEGIN:VEVENT
DTSTART;TZID=America/Chicago:20240925T150000
DTEND;TZID=America/Chicago:20240925T190000
DTSTAMP:20260423T063902
CREATED:20220928T153000Z
LAST-MODIFIED:20240228T211712Z
UID:1753-1727276400-1727290800@nirpc.com
SUMMARY:NIRPC .22 LR Shoot - Harrison Rd. Range
DESCRIPTION:
URL:https://nirpc.com/event/nirpc-22-lr-shoot-harrison-rd-range-26/
LOCATION:Harrison Rd Range\, 3660 Harrison Rd.\, Rockford\, IL\, IL\, United States
CATEGORIES:Club Event
END:VEVENT
BEGIN:VEVENT
DTSTART;TZID=America/Chicago:20240918T150000
DTEND;TZID=America/Chicago:20240918T190000
DTSTAMP:20260423T063902
CREATED:20220921T153000Z
LAST-MODIFIED:20240228T203037Z
UID:1751-1726671600-1726686000@nirpc.com
SUMMARY:NIRPC .22 LR Shoot - Harrison Rd. Range
DESCRIPTION:
URL:https://nirpc.com/event/nirpc-22-lr-shoot-harrison-rd-range-25/
LOCATION:Harrison Rd Range\, 3660 Harrison Rd.\, Rockford\, IL\, IL\, United States
END:VEVENT
BEGIN:VEVENT
DTSTART;TZID=America/Chicago:20240915T080000
DTEND;TZID=America/Chicago:20240915T130000
DTSTAMP:20260423T063902
CREATED:20230827T215234Z
LAST-MODIFIED:20240813T022527Z
UID:2241-1726387200-1726405200@nirpc.com
SUMMARY:New Member Orientation
DESCRIPTION:Northern Illinois Rifle & Pistol Club (NIRPC) will be having a new member orientation on Sunday September 15th 2024 from 08:00 to 1:00.  Cost with the $50.00 orientation fee will be $170.00 payable by check or credit card ($5.00 convenience fee will be added for cards).  Orientation will be held at Keller-Williams Realty office 4201 Galleria Dr. Loves Park (Next to Farm & Fleet on Riverside).  Please be there by 7:45 and bring your valid FOID card and either an NRA or ISRA membership card or proof of either membership. \n  \nClassroom instruction will be from 8:00 to approximately 11:00 at which time you will be sent to our range at 3660 Harrison Rd\, Rockford for the range tour and firearm proficiency portion of orientation.  Please bring a handgun or rifle you are comfortable with along with eye and ear protection and at least 25 rounds of ammo.  Leave these in your vehicle while at the classroom. \nIf you have not submitted an application and would like to join\, fill out a new application.
URL:https://nirpc.com/event/new-member-orientation/
LOCATION:Keller Williams Realty Signature\, 4201 Galleria Dr\, Loves Park\, IL\, 61111\, United States
CATEGORIES:Orientation
ORGANIZER;CN="John Wisch":MAILTO:Johnwisch@hotmail.com
END:VEVENT
BEGIN:VEVENT
DTSTART;TZID=America/Chicago:20240911T150000
DTEND;TZID=America/Chicago:20240911T180000
DTSTAMP:20260423T063902
CREATED:20220914T153000Z
LAST-MODIFIED:20240228T194840Z
UID:1749-1726066800-1726077600@nirpc.com
SUMMARY:NIRPC .22 LR Shoot - Harrison Rd. Range
DESCRIPTION:
URL:https://nirpc.com/event/nirpc-22-lr-shoot-harrison-rd-range-24/
LOCATION:Harrison Rd Range\, 3660 Harrison Rd.\, Rockford\, IL\, IL\, United States
CATEGORIES:Club Event
END:VEVENT
END:VCALENDAR