BEGIN:VCALENDAR
VERSION:2.0
PRODID:-//NIRPC - ECPv6.15.12.2//NONSGML v1.0//EN
CALSCALE:GREGORIAN
METHOD:PUBLISH
X-ORIGINAL-URL:https://nirpc.com
X-WR-CALDESC:Events for NIRPC
REFRESH-INTERVAL;VALUE=DURATION:PT1H
X-Robots-Tag:noindex
X-PUBLISHED-TTL:PT1H
BEGIN:VTIMEZONE
TZID:America/Chicago
BEGIN:DAYLIGHT
TZOFFSETFROM:-0600
TZOFFSETTO:-0500
TZNAME:CDT
DTSTART:20250309T080000
END:DAYLIGHT
BEGIN:STANDARD
TZOFFSETFROM:-0500
TZOFFSETTO:-0600
TZNAME:CST
DTSTART:20251102T070000
END:STANDARD
BEGIN:DAYLIGHT
TZOFFSETFROM:-0600
TZOFFSETTO:-0500
TZNAME:CDT
DTSTART:20260308T080000
END:DAYLIGHT
BEGIN:STANDARD
TZOFFSETFROM:-0500
TZOFFSETTO:-0600
TZNAME:CST
DTSTART:20261101T070000
END:STANDARD
BEGIN:DAYLIGHT
TZOFFSETFROM:-0600
TZOFFSETTO:-0500
TZNAME:CDT
DTSTART:20270314T080000
END:DAYLIGHT
BEGIN:STANDARD
TZOFFSETFROM:-0500
TZOFFSETTO:-0600
TZNAME:CST
DTSTART:20271107T070000
END:STANDARD
END:VTIMEZONE
BEGIN:VEVENT
DTSTART;TZID=America/Chicago:20260201T170000
DTEND;TZID=America/Chicago:20260201T190000
DTSTAMP:20260422T151902
CREATED:20220207T050000Z
LAST-MODIFIED:20251227T212735Z
UID:1608-1769965200-1769972400@nirpc.com
SUMMARY:NIRPC Board Meeting
DESCRIPTION:
URL:https://nirpc.com/event/nirpc-board-meeting/
LOCATION:Keller Williams Realty Signature\, 4201 Galleria Dr\, Loves Park\, IL\, 61111\, United States
CATEGORIES:Board Meeting
ORGANIZER;CN="Josh West":MAILTO:joshua_west@comcast.net
END:VEVENT
BEGIN:VEVENT
DTSTART;TZID=America/Chicago:20260202T170000
DTEND;TZID=America/Chicago:20260202T180000
DTSTAMP:20260422T151902
CREATED:20251227T195214Z
LAST-MODIFIED:20251227T214057Z
UID:2121-1770051600-1770055200@nirpc.com
SUMMARY:NIRPC Membership Renewal
DESCRIPTION:Renewals for 2026-2027 may be brought to the February 2nd meeting between 5:00 PM and 6:00 PM\, or if needed after the monthly meeting.  Current reported work hours are listed in the January newsletter.
URL:https://nirpc.com/event/nirpc-membership-renewal/
LOCATION:Loves Park VFW\, 2018 Windsor Rd\, Loves Park\, IL\, 61111\, United States
CATEGORIES:Club Meeting
ORGANIZER;CN="Paul O'Neill":MAILTO:PJOJeep@comcast.net
END:VEVENT
BEGIN:VEVENT
DTSTART;TZID=America/Chicago:20260202T180000
DTEND;TZID=America/Chicago:20260202T190000
DTSTAMP:20260422T151902
CREATED:20220208T060000Z
LAST-MODIFIED:20251227T214544Z
UID:1339-1770055200-1770058800@nirpc.com
SUMMARY:Monthly Member Meeting
DESCRIPTION:
URL:https://nirpc.com/event/zoom-member-meeting/
LOCATION:Loves Park VFW\, 2018 Windsor Rd\, Loves Park\, IL\, 61111\, United States
CATEGORIES:Club Meeting
END:VEVENT
BEGIN:VEVENT
DTSTART;TZID=America/Chicago:20260221T100000
DTEND;TZID=America/Chicago:20260221T130000
DTSTAMP:20260422T151902
CREATED:20250213T215737Z
LAST-MODIFIED:20260115T030421Z
UID:2455-1771668000-1771678800@nirpc.com
SUMMARY:Membership Renewal and Key Distribution - Saturday Event!
DESCRIPTION:We have set up for a Saturday renewal event as we have been discussing.  Event will take place at Kelly-Williams Realty offices next to Farm & Fleet on Riverside. \nPlease bring Check\, Card\, OR Money Order…NO CASH PLEASE!
URL:https://nirpc.com/event/membership-renewal-and-key-distribution-saturday-event/
LOCATION:Keller Williams Realty Signature\, 4201 Galleria Dr\, Loves Park\, IL\, 61111\, United States
CATEGORIES:Club Event
ORGANIZER;CN="Paul O'Neill":MAILTO:PJOJeep@comcast.net
END:VEVENT
BEGIN:VEVENT
DTSTART;TZID=America/Chicago:20260228T100000
DTEND;TZID=America/Chicago:20260228T160000
DTSTAMP:20260422T151902
CREATED:20260115T030035Z
LAST-MODIFIED:20260115T030035Z
UID:2621-1772272800-1772294400@nirpc.com
SUMMARY:IDPA Qualifier
DESCRIPTION:Harrison Road Sand Pit – You must register on PractiScore.com for this event.
URL:https://nirpc.com/event/idpa-qualifier/
LOCATION:Harrison Rd. Sandpit\, 3660 Harrison Rd.\, Rockford\, IL\, United States
CATEGORIES:IDPA
END:VEVENT
END:VCALENDAR